BEGIN:VCALENDAR
VERSION:2.0
PRODID:-//Plone.org//NONSGML plone.app.event//EN
X-WR-TIMEZONE:Europe/Madrid
BEGIN:VEVENT
SUMMARY:MASTER THESIS IA - 12 SEPTEMBER
DTSTART;TZID=Europe/Madrid:20151109T080000
DTEND;TZID=Europe/Madrid:20151109T090000
DTSTAMP:20260420T155922Z
UID:050545ce-2f13-4ba2-a44d-c00604512178@peter5.upc.edu:11901
CREATED:20120906T104900Z
LAST-MODIFIED:20120907T082400Z
LOCATION:Sala 231. Escola Tècnica Superior d'Enginyeria (URV). Av. dels  
 Països Catalans\, 26. 43007-Tarragona.
URL:https://artificialintelligence.phd.upc.edu/en/events/master-thesis-ia-
 12-september
END:VEVENT
BEGIN:VTIMEZONE
TZID:Europe/Madrid
X-LIC-LOCATION:Europe/Madrid
BEGIN:STANDARD
DTSTART:20151025T020000
TZNAME:CET
TZOFFSETFROM:+0200
TZOFFSETTO:+0100
END:STANDARD
END:VTIMEZONE
END:VCALENDAR
